BEGIN:VCALENDAR
VERSION:2.0
PRODID:icalendar-ruby
CALSCALE:GREGORIAN
METHOD:PUBLISH
BEGIN:VEVENT
DTSTAMP:20260420T024610Z
UID:85-14875@nashvilleroad.tithelysetup3.com
DTSTART:20260425T123000Z
DTEND:20260425T140000Z
CLASS:PUBLIC
CREATED:20260419T080038
DESCRIPTION:We're getting together for breakfast\, to experience first hand
  the culinary delights of the legendary high fat/high cholesterol diet tha
 t's sweeping all of Bolton/Kleinburg. Following the feast\, we'll have an 
 informal time of discussion about something from the Bible that's relevant
  to the everyday lives of men and fathers in our communities.\nFood for bo
 dy and for the soul as well - for men\, fathers and sons. \nThe cost is j
 ust $5 per person - click here to register.\nHope to see you then!
LAST-MODIFIED:20260419T080038
LOCATION:The Fireside Room at Nashville Road
SUMMARY:Men's Breakfast
URL;VALUE=URI:https://nashvilleroad.ca/events/mens-breakfast--85/2026-04-25
ATTACH;FILENAME=Tithely Mens Breakfast.jpg;FMTTYPE=image/jpeg:https://dq5pw
 pg1q8ru0.cloudfront.net/2023/09/08/09/47/02/44027e24-ba63-4cd6-aefd-e497c8
 36de17/Tithely%20Mens%20Breakfast.jpg
END:VEVENT
END:VCALENDAR
